BEGIN:VCALENDAR
VERSION:2.0
PRODID:-//ChamberMaster//Event Calendar 2.0//EN
METHOD:PUBLISH
X-PUBLISHED-TTL:P3D
REFRESH-INTERVAL:P3D
CALSCALE:GREGORIAN
BEGIN:VEVENT
DTSTART:20190224T183000Z
DTEND:20190224T230000Z
X-MICROSOFT-CDO-ALLDAYEVENT:FALSE
SUMMARY:Lions Club-Kick Cancer's Butts for the Kids
DESCRIPTION:Lions Club International Fundraiser \n\nKICK CANCER'S BUTTS FOR THE KIDS\n\nBring your quarters for bidding and dollars for shopping and drawings! \n\nThere will be special drawings for some wonderful items
X-ALT-DESC;FMTTYPE=text/html:Lions Club International Fundraiser&nbsp\;<br />\nKICK CANCER&#39\;S BUTTS FOR THE KIDS<br />\nBring your quarters for bidding and dollars for shopping and drawings!&nbsp\;<br />\nThere will be special drawings for some wonderful items
LOCATION:Cathy Hensel Youth Center 236 George Hensel Dr.\, Montebello\, CA 90640(Official) 226 S. Taylor Ave.\, Montebello\, CA 90640 (Google Map)
UID:e.1156.3242
SEQUENCE:3
DTSTAMP:20260419T130917Z
URL:https://www.montebellochamber.org/events/details/lions-club-kick-cancer-s-butts-for-the-kids-3242
END:VEVENT

END:VCALENDAR
