BEGIN:VCALENDAR
VERSION:2.0
PRODID:-//ChamberMaster//Event Calendar 2.0//EN
METHOD:PUBLISH
X-PUBLISHED-TTL:P3D
REFRESH-INTERVAL:P3D
CALSCALE:GREGORIAN
BEGIN:VEVENT
DTSTART:20260321T150000Z
DTEND:20260321T210000Z
X-MICROSOFT-CDO-ALLDAYEVENT:FALSE
SUMMARY:Lions Club of Montebello FREE Vision Screening
DESCRIPTION:Lions Club of Montebello sponsoring FREE Vision Screening and FREE Recycling Eyeglasses!\n\nALL AGES WELCOME!-No qualifications\n\nFirst come\, first served-come early!
X-ALT-DESC;FMTTYPE=text/html:Lions Club of Montebello sponsoring FREE Vision Screening and FREE Recycling Eyeglasses!<br />\nALL AGES WELCOME!-No qualifications<br />\nFirst come\, first served-come early!
LOCATION:Applied Technology Center (ATC) High School 1200 W. Mines Montebello\, CA 90640
UID:e.1156.5003
SEQUENCE:3
DTSTAMP:20260420T122053Z
URL:https://www.montebellochamber.org/events/details/lions-club-of-montebello-free-vision-screening-5003
END:VEVENT

END:VCALENDAR
