BEGIN:VCALENDAR
VERSION:2.0
PRODID:-//ChamberMaster//Event Calendar 2.0//EN
METHOD:PUBLISH
X-PUBLISHED-TTL:P3D
REFRESH-INTERVAL:P3D
CALSCALE:GREGORIAN
BEGIN:VEVENT
DTSTART:20181006T153000Z
DTEND:20181006T183000Z
X-MICROSOFT-CDO-ALLDAYEVENT:FALSE
SUMMARY:Lions Club of Montebello Pancake Breakfast Fundraiser
DESCRIPTION:Lions Club of Montebello invites you to their\n\nPancake Breakfast Fundraiser\n\nPrice Includes: Pancakes\, Sausages\, & Eggs\n\nCoffee\, Milk/Orange Juice\n\n\n\nDonate your used Eye Glasses\, used Cell Phones\, and Gently used shoes at the Drop Off Box at event.
X-ALT-DESC;FMTTYPE=text/html:Lions Club of Montebello invites you to their<br />\nPancake Breakfast Fundraiser<br />\nPrice Includes: Pancakes\, Sausages\, &amp\; Eggs<br />\nCoffee\, Milk/Orange Juice<br />\n<br />\nDonate your used Eye Glasses\, used Cell Phones\, and Gently used shoes at the Drop Off Box at event.
LOCATION:Montebello Senior Center 115 S. Taylor Ave. Montebello\, CA 90640
UID:e.1156.2642
SEQUENCE:3
DTSTAMP:20260419T202742Z
URL:https://www.montebellochamber.org/events/details/lions-club-of-montebello-pancake-breakfast-fundraiser-2642
END:VEVENT

END:VCALENDAR
