BEGIN:VCALENDAR
VERSION:2.0
PRODID:-//ChamberMaster//Event Calendar 2.0//EN
METHOD:PUBLISH
X-PUBLISHED-TTL:P3D
REFRESH-INTERVAL:P3D
CALSCALE:GREGORIAN
BEGIN:VEVENT
DTSTART:20200307T163000Z
DTEND:20200307T190000Z
X-MICROSOFT-CDO-ALLDAYEVENT:FALSE
SUMMARY:Lions Club of Montebello Pancake Breakfast Fundraiser
DESCRIPTION:Lions Club of Montebello invites you to their\n\n\n\nPancake Breakfast Fundraiser\n\n\n\nPrice Includes: Pancakes\, Sausages\, Eggs &\n\nCoffee\, Milk/Orange Juice\n\n\n\nAll proceeds benefit the Lions Club of Montebello Charities Foundation in serving our communities.\n\n\n\nDonations of used eyeglasses\, used cell phones\, used ink jet cartridges are requested and welcomed.
X-ALT-DESC;FMTTYPE=text/html:Lions Club of Montebello invites you to their<br />\n<br />\nPancake Breakfast Fundraiser<br />\n<br />\nPrice Includes: Pancakes\, Sausages\, Eggs &amp\;<br />\nCoffee\, Milk/Orange Juice<br />\n<br />\nAll proceeds benefit the Lions Club of Montebello Charities Foundation in serving our communities.<br />\n<br />\nDonations of used eyeglasses\, used cell phones\, used ink jet cartridges are requested and welcomed.
LOCATION:Montebello Senior Center 115 S. Taylor Ave. Montebello\, CA 90640
UID:e.1156.3571
SEQUENCE:3
DTSTAMP:20260422T203419Z
URL:https://www.montebellochamber.org/events/details/lions-club-of-montebello-pancake-breakfast-fundraiser-3571
END:VEVENT

END:VCALENDAR
