BEGIN:VCALENDAR
VERSION:2.0
PRODID:-//ChamberMaster//Event Calendar 2.0//EN
METHOD:PUBLISH
X-PUBLISHED-TTL:P3D
REFRESH-INTERVAL:P3D
CALSCALE:GREGORIAN
BEGIN:VEVENT
DTSTART:20181110T170000Z
DTEND:20181111T000000Z
X-MICROSOFT-CDO-ALLDAYEVENT:FALSE
SUMMARY:Lions District 4L2 1st Annual Diabetes Awareness Expo
DESCRIPTION:Lions District 4L2 & American Diabetes Association \n\nproudly present \n\nOur 1st Annual Diabetes Awareness Expo\n\nAll net proceeds from the event will be donated to the American Diabetes Society.
X-ALT-DESC;FMTTYPE=text/html:Lions District 4L2 &amp\; American Diabetes Association&nbsp\;<br />\nproudly present&nbsp\;<br />\nOur 1st Annual Diabetes Awareness Expo<br />\nAll net proceeds from the event will be donated to the American Diabetes Society.<br />\n<br />\n<br />\n<br />\n&nbsp\;
LOCATION:Applied Technology Center 1200 W. Mines Ave. Montebello\, CA 90640
UID:e.1156.2641
SEQUENCE:3
DTSTAMP:20260419T173810Z
URL:https://www.montebellochamber.org/events/details/lions-district-4l2-1st-annual-diabetes-awareness-expo-2641
END:VEVENT

END:VCALENDAR
