BEGIN:VCALENDAR
VERSION:2.0
PRODID:-//ChamberMaster//Event Calendar 2.0//EN
METHOD:PUBLISH
X-PUBLISHED-TTL:P3D
REFRESH-INTERVAL:P3D
CALSCALE:GREGORIAN
BEGIN:VEVENT
DTSTART:20190113T040000Z
DTEND:20190113T070000Z
X-MICROSOFT-CDO-ALLDAYEVENT:FALSE
SUMMARY:Live Music at Angry Horse Brewing
DESCRIPTION:Live Music with Rafa & Porque Si\n\nJoin us for live music on Saturday Jan. 12.  We'll have live music by our friends Rafa & Porque Si.  They'll have you groovin' and singing to all your favorites from the 90's.\n\n\n\nYou never know when they might have a planned guest appearance up their sleeve.\n\n\n\nNo cover.  Dog & family friendly.
X-ALT-DESC;FMTTYPE=text/html:Live Music with Rafa &amp\; Porque Si<br />\nJoin us for live music on Saturday Jan. 12.&nbsp\; We&#39\;ll have live music by our friends Rafa &amp\; Porque Si.&nbsp\; They&#39\;ll have you groovin&#39\; and singing to all your favorites from the 90&#39\;s.<br />\n<br />\nYou never know when they might have a planned guest appearance up their sleeve.<br />\n<br />\nNo cover.&nbsp\; Dog &amp\; family friendly.&nbsp\;
LOCATION:Angry Horse Brewing 603 West Whittier Blvd. Montebello\, CA 90640
UID:e.1156.3156
SEQUENCE:3
DTSTAMP:20260419T160333Z
URL:https://www.montebellochamber.org/events/details/live-music-at-angry-horse-brewing-3156
END:VEVENT

END:VCALENDAR
