BEGIN:VCALENDAR
VERSION:2.0
PRODID:-//ChamberMaster//Event Calendar 2.0//EN
METHOD:PUBLISH
X-PUBLISHED-TTL:P3D
REFRESH-INTERVAL:P3D
CALSCALE:GREGORIAN
BEGIN:VEVENT
DTSTART:20191117T040000Z
DTEND:20191117T070000Z
X-MICROSOFT-CDO-ALLDAYEVENT:FALSE
SUMMARY:Live Music at Angry Horse Brewing
DESCRIPTION:Live Music with Rafa & Porque Si\n\nEnjoy live music by Rafa & Porque Si at Angry Horse Brewing on Nov. 16th! They'll have you groovin' and singing along to all your favorites. Reggae\, Hip-Hop\, Rok en Espa ol and more. You never know when Monica O. will pop in to join! No cover. 21 and over.
X-ALT-DESC;FMTTYPE=text/html:Live Music with Rafa &amp\; Porque Si<br />\n<span>Enjoy live music by Rafa &amp\; Porque Si at Angry Horse Brewing on Nov. 16th! They&#39\;ll have you groovin&#39\; and singing along to all your favorites. Reggae\, Hip-Hop\, Rok en Espa&ntilde\;ol and more. You never know when Monica O. will pop in to join! No cover. 21 and over</span>.
LOCATION:Angry Horse Brewing 603 West Whittier Blvd. Montebello\, CA 90640
UID:e.1156.3502
SEQUENCE:3
DTSTAMP:20260419T160334Z
URL:https://www.montebellochamber.org/events/details/live-music-at-angry-horse-brewing-3502
END:VEVENT

END:VCALENDAR
