BEGIN:VCALENDAR
VERSION:2.0
PRODID:-//ChamberMaster//Event Calendar 2.0//EN
METHOD:PUBLISH
X-PUBLISHED-TTL:P3D
REFRESH-INTERVAL:P3D
CALSCALE:GREGORIAN
BEGIN:VEVENT
DTSTART:20200223T010000Z
DTEND:20200223T070000Z
X-MICROSOFT-CDO-ALLDAYEVENT:FALSE
SUMMARY:Live Music & Kitchen Culture @ Angry Horse
DESCRIPTION:Saturday\, February 22nd stop by the taproom and enjoy your Mexican favorites\, carniceria style! Kitchen Culture will be serving food starting at 5pm. Check out their menu below. And don't forget we have Live Music with Gil Oyola starting at 8pm.\n\n\n\nMEAT BY THE POUND\n\nBrisket Barbacoa $14 per 1/2 lb.\n\nCarnitas $12 per 1/2 lb.\n\nPollo rostizado $13 TBD\n\nCostillas adobadas $12 per 1/2 lb.\n\nChorizo verde $5 each\n\n\n\n*Includes 4 hand made tortillas\, 2 bolillos or 2 flour tortillas\, pickled veggies and jalape o\, and salsa\n\n\n\nSIDE DISHES\n\nFrijoles Charros $4\n\nEsquites $5\n\nEnsalada de nopal $4\n\nRajas con crema $5\n\n4 hand made tortillas $3\n\nBolillo bread $1\n\n\n\nA LA CARTE\n\nTaco with hand made tortilla $5\n\nBurrito on a flour tortilla $13
X-ALT-DESC;FMTTYPE=text/html:Saturday\, February 22nd stop by the taproom and enjoy your Mexican favorites\, carniceria style! Kitchen Culture will be serving food starting at 5pm. Check out their menu below. And don&#39\;t forget we have Live Music with Gil Oyola starting at 8pm.<br />\n<br />\nMEAT BY THE POUND<br />\nBrisket Barbacoa $14 per 1/2 lb.<br />\nCarnitas $12 per 1/2 lb.<br />\nPollo rostizado $13 TBD<br />\nCostillas adobadas $12 per 1/2 lb.<br />\nChorizo verde $5 each<br />\n<br />\n*Includes 4 hand made tortillas\, 2 bolillos or 2 flour tortillas\, pickled veggies and jalape&ntilde\;o\, and salsa<br />\n<br />\nSIDE DISHES<br />\nFrijoles Charros $4<br />\nEsquites $5<br />\nEnsalada de nopal $4<br />\nRajas con crema $5<br />\n4 hand made tortillas $3<br />\nBolillo bread $1<br />\n<br />\nA LA CARTE<br />\nTaco with hand made tortilla $5<br />\nBurrito on a flour tortilla $13
LOCATION:Angry Horse Brewing 603 W. Whittier Blvd. Montebello\, California 90640
UID:e.1156.3624
SEQUENCE:3
DTSTAMP:20260419T114734Z
URL:https://www.montebellochamber.org/events/details/live-music-kitchen-culture-angry-horse-3624
END:VEVENT

END:VCALENDAR
