BEGIN:VCALENDAR
VERSION:2.0
PRODID:-//ChamberMaster//Event Calendar 2.0//EN
METHOD:PUBLISH
X-PUBLISHED-TTL:P3D
REFRESH-INTERVAL:P3D
CALSCALE:GREGORIAN
BEGIN:VEVENT
DTSTART:20200111T013000Z
DTEND:20200111T070000Z
X-MICROSOFT-CDO-ALLDAYEVENT:FALSE
SUMMARY:Live Music & Mama's Tacos @ Angry Horse Brewing
DESCRIPTION:Check out live music with Gil T. Serrano Friday\, January 10th. It's a night of blues rock with a whole lot of soul and man\, can he sing! Music starts at 8pm. 21 and over.\n\n\n\nMama's Tacos will also be serving your Mexican favorites starting at 5:30pm.
X-ALT-DESC;FMTTYPE=text/html:<span>Check out live music with <a href="https://www.facebook.com/gilTserrano" target="_blank">Gil T. Serrano</a> Friday\, January 10th. It&#39\;s a night of blues rock with a whole lot of soul and man\, can he sing! Music starts at 8pm. 21 and over.<br />\n<br />\nMama&#39\;s Tacos will also be serving your Mexican favorites starting at 5:30pm.</span>
LOCATION:Angry Horse Brewing 603 W. Whittier Blvd. Montebello\, California 90640
UID:e.1156.3549
SEQUENCE:3
DTSTAMP:20260419T130802Z
URL:https://www.montebellochamber.org/events/details/live-music-mama-s-tacos-angry-horse-brewing-3549
END:VEVENT

END:VCALENDAR
