BEGIN:VCALENDAR
VERSION:2.0
PRODID:-//ChamberMaster//Event Calendar 2.0//EN
METHOD:PUBLISH
X-PUBLISHED-TTL:P3D
REFRESH-INTERVAL:P3D
CALSCALE:GREGORIAN
BEGIN:VEVENT
DTSTART:20180602T030000Z
DTEND:20180602T060000Z
X-MICROSOFT-CDO-ALLDAYEVENT:FALSE
SUMMARY:Live Music with Wasteland Radio
DESCRIPTION:Friday\, June 1st live music at the taproom! This week we have WASTELAND RADIO based out of Upland. Join us for a night of classic rock from the 80's and 90's. \n\n\n\nMusic starts at 8pm. No cover.
X-ALT-DESC;FMTTYPE=text/html:<span style="color: rgb(29\, 33\, 41)\; font-family: Helvetica\, Arial\, sans-serif\; font-size: 14px\;">Friday\, June 1st live music at the taproom! This week we have&nbsp\;</span><a href="https://www.facebook.com/WLRband/" style="color: rgb(54\, 88\, 153)\; cursor: pointer\; text-decoration-line: none\; font-family: Helvetica\, Arial\, sans-serif\; font-size: 14px\;" target="_blank">WASTELAND RADIO</a><span style="color: rgb(29\, 33\, 41)\; font-family: Helvetica\, Arial\, sans-serif\; font-size: 14px\;">&nbsp\;based out of Upland. Join us for a night of classic rock from the 80&#39\;s and 90&#39\;s.&nbsp\;</span><br style="color: rgb(29\, 33\, 41)\; font-family: Helvetica\, Arial\, sans-serif\; font-size: 14px\;" />\n<br style="color: rgb(29\, 33\, 41)\; font-family: Helvetica\, Arial\, sans-serif\; font-size: 14px\;" />\n<span style="color: rgb(29\, 33\, 41)\; font-family: Helvetica\, Arial\, sans-serif\; font-size: 14px\;">Music starts at 8pm. No cover.</span>
LOCATION:Angry Horse Brewing 603 W. Whittier Blvd. Montebello\, CA 90640
UID:e.1156.2607
SEQUENCE:3
DTSTAMP:20260419T173731Z
URL:https://www.montebellochamber.org/events/details/live-music-with-wasteland-radio-2607
END:VEVENT

END:VCALENDAR
