BEGIN:VCALENDAR
VERSION:2.0
PRODID:-//ChamberMaster//Event Calendar 2.0//EN
METHOD:PUBLISH
X-PUBLISHED-TTL:P3D
REFRESH-INTERVAL:P3D
CALSCALE:GREGORIAN
BEGIN:VEVENT
DTSTART:20180516T010000Z
DTEND:20180516T030000Z
X-MICROSOFT-CDO-ALLDAYEVENT:FALSE
SUMMARY:Live Oak Hiring Event
DESCRIPTION:Take Control of Your Career\n\nCome learn about our career opportunities
X-ALT-DESC;FMTTYPE=text/html:Take Control of Your Career<br />\nCome learn about our career opportunities
LOCATION:Turner & Stevens Live Oak Memorial Park & Mortuary 200 E. Duarte Rd. Monrovia\, CA 61016
UID:e.1156.2573
SEQUENCE:3
DTSTAMP:20260419T155959Z
URL:https://www.montebellochamber.org/events/details/live-oak-hiring-event-2573
END:VEVENT

END:VCALENDAR
