BEGIN:VCALENDAR
VERSION:2.0
PRODID:-//ChamberMaster//Event Calendar 2.0//EN
METHOD:PUBLISH
X-PUBLISHED-TTL:P3D
REFRESH-INTERVAL:P3D
CALSCALE:GREGORIAN
BEGIN:VEVENT
DTSTART:20181030T190000Z
DTEND:20181031T040000Z
X-MICROSOFT-CDO-ALLDAYEVENT:FALSE
SUMMARY:Live Your Dream Fundraiser/Soroptimist International Montebello
DESCRIPTION:"Live Your Dream"....Happy Shopping Fundraiser!! Soroptomist International Montebello fundraiser for the LYD Award Program.  Lots of great clothes for the holidays!
X-ALT-DESC;FMTTYPE=text/html:&quot\;Live Your Dream&quot\;....Happy Shopping Fundraiser!! Soroptomist International Montebello fundraiser for the LYD Award Program.&nbsp\; Lots of great clothes for the holidays!
LOCATION:Boutique: Teri Medina's Really Great Stuff 14402 Whittier Blvd. Whittier\, CA 90605
UID:e.1156.3099
SEQUENCE:3
DTSTAMP:20260419T190155Z
URL:https://www.montebellochamber.org/events/details/live-your-dream-fundraiser-soroptimist-international-montebello-3099
END:VEVENT

END:VCALENDAR
