BEGIN:VCALENDAR
VERSION:2.0
PRODID:-//ChamberMaster//Event Calendar 2.0//EN
METHOD:PUBLISH
X-PUBLISHED-TTL:P3D
REFRESH-INTERVAL:P3D
CALSCALE:GREGORIAN
BEGIN:VEVENT
DTSTART:20190430T160000Z
DTEND:20190430T190000Z
X-MICROSOFT-CDO-ALLDAYEVENT:FALSE
SUMMARY:LK Health-Mobile Food Pantry
DESCRIPTION:LK Health-Latino Kids Health in collaboration with Los Angeles Regional Food Bank will be having a Mobile Food Pantry Distribution!!  Food items distributed may include:  fresh fruits and vegetables\, meats\, beans\, rice\, cereals\, canned soups\, pasta\, sauces\, grains\, dairy and bread.
X-ALT-DESC;FMTTYPE=text/html:LK Health-Latino Kids Health in collaboration with Los Angeles Regional Food Bank will be having a Mobile Food Pantry Distribution!!&nbsp\; Food items distributed may include:&nbsp\; fresh fruits and vegetables\, meats\, beans\, rice\, cereals\, canned soups\, pasta\, sauces\, grains\, dairy and bread.&nbsp\;&nbsp\;
LOCATION:LK Health-Latino Kids Health 901 W. Whittier Blvd. Montebello\, CA 90640
UID:e.1156.3284
SEQUENCE:3
DTSTAMP:20260419T160437Z
URL:https://www.montebellochamber.org/events/details/lk-health-mobile-food-pantry-3284
END:VEVENT

END:VCALENDAR
