BEGIN:VCALENDAR
VERSION:2.0
PRODID:-//ChamberMaster//Event Calendar 2.0//EN
METHOD:PUBLISH
X-PUBLISHED-TTL:P3D
REFRESH-INTERVAL:P3D
CALSCALE:GREGORIAN
BEGIN:VEVENT
DTSTART:20130914T170000Z
DTEND:20130928T220000Z
X-MICROSOFT-CDO-ALLDAYEVENT:FALSE
SUMMARY:Loose Gem & Mounting Trunk Show
DESCRIPTION:September 14-28\, 2013\n\n				\n\n				~VIEW HUNDREDS OF LOOSE DIAMONDS\, GEMSTONES & MOUNTINGS!\n\n				*Diamonds in multiple colors from white to yellow to blue!\n\n				*The hottest colored stones: morganites\, tourmalines & more!\n\n				*On-trend mountings for rings\, earrings and pendants!\n\n				\n\n				~REDESIGN AN OLD JEWELRY ITEM OR CREATE A BRAND NEW ONE WITH OUR CUSTOM DESIGN TEAM!\n\n				\n\n				PLUS\, WITH EVERY PURCHASE\, SPIN OUR PRIZE WHEEL FOR A CHANCE TO WIN A 3-CARAT MORGANITE\, GIFT CERTIFICATES & MORE!
X-ALT-DESC;FMTTYPE=text/html:<table cellpadding="0" cellspacing="0" class="uiGrid _51mz mvm">\n	<tbody>\n		<tr class="_51mx">\n			<td class="_51m- vTop">\n				<div class="fbInfoIcon">\n					&nbsp\;</div>\n			</td>\n			<td class="_51m- vTop _51mw">\n				<span itemprop="description"><span class="fsl">September 14-28\, 2013<br />\n				<br />\n				~VIEW HUNDREDS OF LOOSE DIAMONDS\, GEMSTONES &amp\; MOUNTINGS!<br />\n				*Diamonds in multiple colors from white to yellow to blue!<br />\n				*The hottest colored stones: morganites\, tourmalines &amp\; more!<br />\n				*On-trend mountings for rings\, earrings and pendants!<br />\n				<br />\n				~REDESIGN AN OLD JEWELRY ITEM OR CREATE A BRAND NEW ONE WITH OUR CUSTOM DESIGN TEAM!<br />\n				<br />\n				PLUS\, WITH EVERY PURCHASE\, SPIN OUR PRIZE WHEEL FOR A CHANCE TO WIN A 3-CARAT MORGANITE\, GIFT CERTIFICATES &amp\; MORE!</span></span></td>\n		</tr>\n	</tbody>\n</table>\n
LOCATION:Goldex Fine Jewelry 2445 W. Whittier Blvd.\, Suite 201 Montebello\, CA 90640
UID:e.1156.953
SEQUENCE:3
DTSTAMP:20260419T173351Z
URL:https://www.montebellochamber.org/events/details/loose-gem-mounting-trunk-show-09-14-2013-953
END:VEVENT

END:VCALENDAR
