BEGIN:VCALENDAR
VERSION:2.0
PRODID:-//ChamberMaster//Event Calendar 2.0//EN
METHOD:PUBLISH
X-PUBLISHED-TTL:P3D
REFRESH-INTERVAL:P3D
CALSCALE:GREGORIAN
BEGIN:VEVENT
DTSTART:20200716T210000Z
DTEND:20200716T210000Z
X-MICROSOFT-CDO-ALLDAYEVENT:FALSE
SUMMARY:Los Angeles County's Virtual Town Hall for Businesses
DESCRIPTION:Los Angeles County's Virtual Town Hall Meeting for Businesses.  L.A. County's roadmap to recovery\, assisting your business adapt to the new normal.  The following tops will be covered during the town hall meeting:\n\n-Learn about tools and resources for establishing an online presence from Grow with Google.\n\n-Learn about mentorship opportunities and workshops from SCORE of Greater Los Angeles.
X-ALT-DESC;FMTTYPE=text/html:Los Angeles County&#39\;s Virtual Town Hall Meeting for Businesses.&nbsp\; L.A. County&#39\;s roadmap to recovery\, assisting your business adapt to the new normal.&nbsp\; The following tops will be covered during the town hall meeting:<br />\n-Learn about tools and resources for establishing an online presence from Grow with Google.<br />\n-Learn about mentorship opportunities and workshops from SCORE of Greater Los Angeles.
LOCATION:Virtual Please RSVP using below link: https://bit.ly/206zUed
UID:e.1156.3740
SEQUENCE:3
DTSTAMP:20260419T160458Z
URL:https://www.montebellochamber.org/events/details/los-angeles-county-s-virtual-town-hall-for-businesses-3740
END:VEVENT

END:VCALENDAR
