BEGIN:VCALENDAR
VERSION:2.0
PRODID:-//ChamberMaster//Event Calendar 2.0//EN
METHOD:PUBLISH
X-PUBLISHED-TTL:P3D
REFRESH-INTERVAL:P3D
CALSCALE:GREGORIAN
BEGIN:VEVENT
DTSTART;VALUE=DATE:20190810
DTEND;VALUE=DATE:20190811
TRANSP:TRANSPARENT
X-MICROSOFT-CDO-ALLDAYEVENT:TRUE
SUMMARY:Macy's Backstage 1st Anniversary Event
DESCRIPTION:Guess who turned 1!  Their birthday wish?  Stop by\, see what's new\, and shop all their amazing deals!
X-ALT-DESC;FMTTYPE=text/html:Guess who turned 1!&nbsp\; Their birthday wish?&nbsp\; Stop by\, see what&#39\;s new\, and shop all their amazing deals!
LOCATION:Macy's Backstage at The Shops at Montebello
UID:e.1156.3391
SEQUENCE:3
DTSTAMP:20260419T130220Z
URL:https://www.montebellochamber.org/events/details/macy-s-backstage-1st-anniversary-event-3391
END:VEVENT

END:VCALENDAR
