BEGIN:VCALENDAR
VERSION:2.0
PRODID:-//ChamberMaster//Event Calendar 2.0//EN
METHOD:PUBLISH
X-PUBLISHED-TTL:P3D
REFRESH-INTERVAL:P3D
CALSCALE:GREGORIAN
BEGIN:VEVENT
DTSTART:20180818T164500Z
DTEND:20180818T180000Z
X-MICROSOFT-CDO-ALLDAYEVENT:FALSE
SUMMARY:Macy's Backstage Grand Opening
DESCRIPTION:Macy's Backstage Grand Opening\n\n	       (200) scratch off or gift card to first 200 customers ( $5\,$10\, or $25 )\n	       Ribbon Cutting ceremony at 10am\n	       Live DJ\n	       Selfie Station with Social Post giveaway (PopSockets)(While supplies last)\n	       Gift with purchase (Tote Bag\, while supplies last)
X-ALT-DESC;FMTTYPE=text/html:Macy&#39\;s Backstage Grand Opening\n<ul>\n	<li>&nbsp\;&nbsp\;&nbsp\;&nbsp\;&nbsp\;&nbsp\; (200) scratch off or gift card to first 200 customers ( $5\,$10\, or $25 )</li>\n	<li>&nbsp\;&nbsp\;&nbsp\;&nbsp\;&nbsp\;&nbsp\; Ribbon Cutting ceremony at 10am</li>\n	<li>&nbsp\;&nbsp\;&nbsp\;&nbsp\;&nbsp\;&nbsp\; Live DJ</li>\n	<li>&nbsp\;&nbsp\;&nbsp\;&nbsp\;&nbsp\;&nbsp\; Selfie Station with Social Post giveaway (PopSockets)(While supplies last)</li>\n	<li>&nbsp\;&nbsp\;&nbsp\;&nbsp\;&nbsp\;&nbsp\; Gift with purchase (Tote Bag\, while supplies last)</li>\n</ul>\n
LOCATION:Macy's Home (2nd Floor Mall Entrance) 1900 Montebello Town Center Montebello\, CA 90640
UID:e.1156.2640
SEQUENCE:3
DTSTAMP:20260419T202213Z
URL:https://www.montebellochamber.org/events/details/macy-s-backstage-grand-opening-2640
END:VEVENT

END:VCALENDAR
