BEGIN:VCALENDAR
VERSION:2.0
PRODID:-//ChamberMaster//Event Calendar 2.0//EN
METHOD:PUBLISH
X-PUBLISHED-TTL:P3D
REFRESH-INTERVAL:P3D
CALSCALE:GREGORIAN
BEGIN:VEVENT
DTSTART:20200125T190000Z
DTEND:20200126T030000Z
X-MICROSOFT-CDO-ALLDAYEVENT:FALSE
SUMMARY:Macy's Smashbox & Birds of Prey Beauty Event
DESCRIPTION:Exclusive Event!  Get a mini makeover\, then have your pic taken by a pro! (while time permits and supplies last)
X-ALT-DESC;FMTTYPE=text/html:Exclusive Event!&nbsp\; Get a mini makeover\, then have your pic taken by a pro! (while time permits and supplies last)<br />\n<br />\n&nbsp\;
LOCATION:Macy's at The Shops at Montebello Smashbox Makeup Counter - Level 1 2134 Town Center Drive Montebello\, CA 90640
UID:e.1156.3575
SEQUENCE:3
DTSTAMP:20260419T130735Z
URL:https://www.montebellochamber.org/events/details/macy-s-smashbox-birds-of-prey-beauty-event-3575
END:VEVENT

END:VCALENDAR
