BEGIN:VCALENDAR
VERSION:2.0
PRODID:-//ChamberMaster//Event Calendar 2.0//EN
METHOD:PUBLISH
X-PUBLISHED-TTL:P3D
REFRESH-INTERVAL:P3D
CALSCALE:GREGORIAN
BEGIN:VEVENT
DTSTART:20190504T170000Z
DTEND:20190505T010000Z
X-MICROSOFT-CDO-ALLDAYEVENT:FALSE
SUMMARY:Macy's-Smashbox Celebrity Photographer Event
DESCRIPTION:Smashbox/Macy's on location\n\nA Smashbox Photo Event\n\nGet glammed up\, step on set\, star in your own photo shoot with fashion plus CELEBRITY PHOTOGRAPHER-DREW SCHWATRZ!!
X-ALT-DESC;FMTTYPE=text/html:Smashbox/Macy&#39\;s on location<br />\nA Smashbox Photo Event<br />\nGet glammed up\, step on set\, star in your own photo shoot with fashion plus CELEBRITY PHOTOGRAPHER-DREW SCHWATRZ!!&nbsp\;
LOCATION:Macy's Shops at Montebello 1900 Montebello Town Center Montebello\, CA 90640
UID:e.1156.3297
SEQUENCE:3
DTSTAMP:20260420T112840Z
URL:https://www.montebellochamber.org/events/details/macy-s-smashbox-celebrity-photographer-event-3297
END:VEVENT

END:VCALENDAR
