BEGIN:VCALENDAR
VERSION:2.0
PRODID:-//ChamberMaster//Event Calendar 2.0//EN
METHOD:PUBLISH
X-PUBLISHED-TTL:P3D
REFRESH-INTERVAL:P3D
CALSCALE:GREGORIAN
BEGIN:VEVENT
DTSTART:20191228T013000Z
DTEND:20191228T070000Z
X-MICROSOFT-CDO-ALLDAYEVENT:FALSE
SUMMARY:Mama's Tacos @ Angry Horse Brewing
DESCRIPTION:Get your fix! Mama's Tacos will be out back serving up their Tacos\, Quesadillas\, Mulitas\, Burritos and more. They'll be there all night until they sell out.
X-ALT-DESC;FMTTYPE=text/html:<span style="color: rgb(29\, 33\, 41)\; font-family: Helvetica\, Arial\, sans-serif\; font-size: 14px\; white-space: pre-wrap\; background-color: rgb(255\, 255\, 255)\;">Get your fix! Mama&#39\;s Tacos will be out back serving up their Tacos\, Quesadillas\, Mulitas\, Burritos and more. They&#39\;ll be there all night until they sell out.</span>
LOCATION:Angry Horse Brewing 603 W. Whittier Blvd. Montebello\, California 90640
UID:e.1156.3538
SEQUENCE:3
DTSTAMP:20260419T143512Z
URL:https://www.montebellochamber.org/events/details/mama-s-tacos-angry-horse-brewing-3538
END:VEVENT

END:VCALENDAR
