BEGIN:VCALENDAR
VERSION:2.0
PRODID:-//ChamberMaster//Event Calendar 2.0//EN
METHOD:PUBLISH
X-PUBLISHED-TTL:P3D
REFRESH-INTERVAL:P3D
CALSCALE:GREGORIAN
BEGIN:VEVENT
DTSTART:20191207T180000Z
DTEND:20191208T050000Z
X-MICROSOFT-CDO-ALLDAYEVENT:FALSE
SUMMARY:Mamacita Market @ The Shops at Montebello
DESCRIPTION:Mamacita Market is BACK for the Holidays! \n\nShop handmade goods from local mompreneurs during this one-day holiday themed market! Find your loved ones unique gifts and make it a Holiday to remember!\n\n\n	Ea Sol Y Luna\n	Babe with A Dream \n	Nat RL\n	Designing Chica\n	Lucha Comadre\n	Etnyko\n	Ositos \n	Pinxav\n	Pureza Wellness\n	Elizabeth's Boutique\n	Urbano Wood\n	Infinite Glow Makeup Studio\n	Moniso
X-ALT-DESC;FMTTYPE=text/html:<p><b>Mamacita Market is BACK for the Holidays! </b></p>\n\n<p>Shop handmade goods from local mompreneurs during this one-day holiday themed market! Find your loved ones unique gifts and make it a Holiday to remember!</p>\n\n<ul>\n	<li><span style="font-size: 13.3333px\;">Ea Sol Y Luna</span></li>\n	<li><span style="font-size: 13.3333px\;">Babe with A Dream</span><span style="font-size: 13.3333px\;">&nbsp\;</span></li>\n	<li><span style="font-size: 13.3333px\;">Nat&bull\;RL</span></li>\n	<li><span style="font-size: 13.3333px\;">Designing Chica</span></li>\n	<li><span style="font-size: 13.3333px\;">Lucha Comadre</span></li>\n	<li><span style="font-size: 13.3333px\;">Etnyko</span></li>\n	<li><span style="font-size: 13.3333px\;">Ositos&nbsp\;</span></li>\n	<li><span style="font-size: 13.3333px\;">Pinxav</span></li>\n	<li><span style="font-size: 13.3333px\;">Pureza Wellness</span></li>\n	<li><span style="font-size: 13.3333px\;">Elizabeth&#39\;s Boutique</span></li>\n	<li><span style="font-size: 13.3333px\;">Urbano Wood</span></li>\n	<li><span style="font-size: 13.3333px\;">Infinite Glow Makeup Studio</span></li>\n	<li><span style="font-size: 13.3333px\;">Moniso</span></li>\n</ul>\n
LOCATION:The Shops at Montebello 2134 Montebello Town Center Drive Montebello\, CA 90640
UID:e.1156.3516
SEQUENCE:3
DTSTAMP:20260419T143736Z
URL:https://www.montebellochamber.org/events/details/mamacita-market-the-shops-at-montebello-3516
END:VEVENT

END:VCALENDAR
