BEGIN:VCALENDAR
VERSION:2.0
PRODID:-//ChamberMaster//Event Calendar 2.0//EN
METHOD:PUBLISH
X-PUBLISHED-TTL:P3D
REFRESH-INTERVAL:P3D
CALSCALE:GREGORIAN
BEGIN:VEVENT
DTSTART:20200208T180000Z
DTEND:20200209T050000Z
X-MICROSOFT-CDO-ALLDAYEVENT:FALSE
SUMMARY:Mamacita Market @ The Shops at Montebello
DESCRIPTION:The Shops at Montebello is thrilled to host Mamacita Market on Saturday\, February 8th from 10am to 9pm in Center Court. Shop handmade goods from local Momprenuers.\n\nBring your children for free face painting from 11am to 1pm and to meet Disney Princesses Elena of Avalor and Ariel from 5pm to 6:30pm.
X-ALT-DESC;FMTTYPE=text/html:<p>&nbsp\;</p>\n\n<p style="box-sizing: border-box\; margin-bottom: 1.3em\; margin-top: 0px\; color: rgb(68\, 68\, 68)\; font-family: Lato\, sans-serif\; font-size: 20px\; white-space: pre-line\;"><span style="font-family:arial\;"><span style="font-size:12px\;">The Shops at Montebello is thrilled to host Mamacita Market on Saturday\, February 8th from 10am to 9pm in Center Court. Shop handmade goods from local Momprenuers.<br />\nBring your children for free face painting from 11am to 1pm and to meet Disney Princesses Elena of Avalor and Ariel from 5pm to 6:30pm.</span></span></p>\n
LOCATION:The Shops at Montebello 2134 Montebello Town Center Drive Montebello\, CA 90640
UID:e.1156.3599
SEQUENCE:3
DTSTAMP:20260419T114755Z
URL:https://www.montebellochamber.org/events/details/mamacita-market-the-shops-at-montebello-3599
END:VEVENT

END:VCALENDAR
