BEGIN:VCALENDAR
VERSION:2.0
PRODID:-//ChamberMaster//Event Calendar 2.0//EN
METHOD:PUBLISH
X-PUBLISHED-TTL:P3D
REFRESH-INTERVAL:P3D
CALSCALE:GREGORIAN
BEGIN:VEVENT
DTSTART:20120505T210000Z
DTEND:20120506T050000Z
X-MICROSOFT-CDO-ALLDAYEVENT:FALSE
SUMMARY:Manuel's Original El Tepeyac Cafe\, City of Industry 1st Anniversary Celebration!
DESCRIPTION:Manuel's Original El Tepeyac Cafe-City of Industry\n\n1st Anniversary Celebration on CINCO de MAYO\, 2012!\n\n\n\nEntertainment begins at 2pm - 4pm with DJ Fernie Elviz Ramirez.  Then enjoy the beautiful music and song by Mariachi Corazon de Mexico and Folklorico dancers from 4pm - 6pm. Chazz the Magician will perform his magnificent magic for all to enjoy and beginning at 7pm you will hear the fabulous Frank Wright  entertain you with his rendition of the old classics.  Raffle prizes will be given away throughout the day\, so join us for a fun filled day of entertainment.  We look forward to seeing you all on CINCO de MAYO!
X-ALT-DESC;FMTTYPE=text/html:Manuel&#39\;s Original El Tepeyac Cafe-City of Industry<br />\n1st Anniversary Celebration on CINCO de MAYO\, 2012!<br />\n<br />\nEntertainment begins at 2pm - 4pm with DJ Fernie Elviz Ramirez.&nbsp\; Then enjoy the beautiful music and song by Mariachi Corazon de Mexico and Folklorico dancers from 4pm - 6pm. Chazz the Magician will perform his magnificent magic for all to enjoy and beginning at 7pm you will hear the fabulous Frank Wright&nbsp\; entertain you with his rendition of the old classics.&nbsp\; Raffle prizes will be given away throughout the day\, so join us for a fun filled day&nbsp\;of entertainment.&nbsp\; We look forward to seeing you all on CINCO de MAYO!<br />\n<br />\n
LOCATION:13131 Crossroads Parkway South City of Industry\, CA 91746
UID:e.1156.632
SEQUENCE:3
DTSTAMP:20260420T065617Z
URL:https://www.montebellochamber.org/events/details/manuel-s-original-el-tepeyac-cafe-city-of-industry-1st-anniversary-celebration-05-05-2012-632
END:VEVENT

END:VCALENDAR
