BEGIN:VCALENDAR
VERSION:2.0
PRODID:-//ChamberMaster//Event Calendar 2.0//EN
METHOD:PUBLISH
X-PUBLISHED-TTL:P3D
REFRESH-INTERVAL:P3D
CALSCALE:GREGORIAN
BEGIN:VEVENT
DTSTART:20191122T163000Z
DTEND:20191122T220000Z
X-MICROSOFT-CDO-ALLDAYEVENT:FALSE
SUMMARY:MAOF-Caregivers Conference
DESCRIPTION:Caregivers Conference\n\nInformation & Educational Workshops for Caregivers
X-ALT-DESC;FMTTYPE=text/html:Caregivers Conference<br />\nInformation &amp\; Educational Workshops for Caregivers<br />\n&nbsp\;
LOCATION:MAOF Headquarters 401 N. Garfield Ave Montebello\, CA 90640
UID:e.1156.3512
SEQUENCE:3
DTSTAMP:20260419T172936Z
URL:https://www.montebellochamber.org/events/details/maof-caregivers-conference-3512
END:VEVENT

END:VCALENDAR
