BEGIN:VCALENDAR
VERSION:2.0
PRODID:-//ChamberMaster//Event Calendar 2.0//EN
METHOD:PUBLISH
X-PUBLISHED-TTL:P3D
REFRESH-INTERVAL:P3D
CALSCALE:GREGORIAN
BEGIN:VEVENT
DTSTART:20191111T200000Z
DTEND:20191112T050000Z
X-MICROSOFT-CDO-ALLDAYEVENT:FALSE
SUMMARY:MAOF Fundraiser at El Pollo Loco
DESCRIPTION:Join MAOF for a Fire Grilled Fundraiser at El Pollo Loco!  Come enjoy fire-grilled chicken while also supporting a great cause! Healthy food\, GREAT cause\, and Happy Kids this Holiday Season!
X-ALT-DESC;FMTTYPE=text/html:Join MAOF for a Fire Grilled Fundraiser at El Pollo Loco!&nbsp\; Come enjoy fire-grilled chicken while also supporting a great cause! Healthy food\, GREAT cause\, and Happy Kids this Holiday Season!&nbsp\;
LOCATION:EL Pollo Loco 712 W. Beverly Blvd. Montebello\, CA 90640
UID:e.1156.3468
SEQUENCE:3
DTSTAMP:20260419T160505Z
URL:https://www.montebellochamber.org/events/details/maof-fundraiser-at-el-pollo-loco-3468
END:VEVENT

END:VCALENDAR
