BEGIN:VCALENDAR
VERSION:2.0
PRODID:-//ChamberMaster//Event Calendar 2.0//EN
METHOD:PUBLISH
X-PUBLISHED-TTL:P3D
REFRESH-INTERVAL:P3D
CALSCALE:GREGORIAN
BEGIN:VEVENT
DTSTART:20190916T020000Z
DTEND:20190916T050000Z
X-MICROSOFT-CDO-ALLDAYEVENT:FALSE
SUMMARY:MAOF-Hollywood Bowl Summer Nights-TACVBA/Cherry Blazerr
DESCRIPTION:It's impossible to limit what Mexico City's Caf  Tacvba do to just one genre. The innovative quartet emerged from the rock en espa ol scene of the '90s to explore indie rock\, electronic music\, musique concr te\, cumbia\, norte a\, and more. It all amounts to a thoroughly modern portrait of Mexican music   and an adventurous and viscerally exciting live concert experience that's made them a sell-out favorite around the world.\n\n\n\n\n\nLed by Clementine Creevy\, LA natives Cherry Glazerr open the evening with a daring set that reflects the emotional growth and vulnerability of this three-piece rock band.
X-ALT-DESC;FMTTYPE=text/html:It&rsquo\;s impossible to limit what Mexico City&#39\;s Caf&eacute\; Tacvba do to just one genre. The innovative quartet emerged from the rock en espa&ntilde\;ol scene of the &rsquo\;90s to explore indie rock\, electronic music\, musique concr&egrave\;te\, cumbia\, norte&ntilde\;a\, and more. It all amounts to a thoroughly modern portrait of Mexican music &ndash\; and an adventurous and viscerally exciting live concert experience that&rsquo\;s made them a sell-out favorite around the world.<br />\n<br style="padding-top:0px\;" />\n<br />\nLed by Clementine Creevy\, LA natives Cherry Glazerr open the evening with a daring set that reflects the emotional growth and vulnerability of this three-piece rock band.
LOCATION:Hollywood Bowl 2301 N. Highland Avenue Los Angeles\, CA 90068
UID:e.1156.3370
SEQUENCE:3
DTSTAMP:20260419T173832Z
URL:https://www.montebellochamber.org/events/details/maof-hollywood-bowl-summer-nights-tacvba-cherry-blazerr-3370
END:VEVENT

END:VCALENDAR
