BEGIN:VCALENDAR
VERSION:2.0
PRODID:-//ChamberMaster//Event Calendar 2.0//EN
METHOD:PUBLISH
X-PUBLISHED-TTL:P3D
REFRESH-INTERVAL:P3D
CALSCALE:GREGORIAN
BEGIN:VEVENT
DTSTART:20120728T153000Z
DTEND:20120728T200000Z
X-MICROSOFT-CDO-ALLDAYEVENT:FALSE
SUMMARY:March For Montebello
DESCRIPTION:March For Montebello - presented by Y.A.M.S. (Youth Advocates for Montebello Servicing Our Community)\n\n\n\nWhat is March for Montebello?\n\nThe March is an event to create awareness in the community about keeping our local money in our own city.\n\n\n\n"SHOP in Montebello"\n\nWhat does this mean?\n\nFor every dollar spent in the City we receive a portion of "Sales Tax Revenue."\n\nThe more we purchase in Montebello the further we can assist in changing and managing our own local economy.\n\n\n\nWhy is it important NOW?\n\nResidents\, students\, and young people need to understand the value of what a small gesture means.  For example\, filling your gas tank in Montebello instead of any other city.  Shopping and eating at local businesses rather than other cities surrounding us.  It is important because WE can make a difference TOGETHER through every small action.\n\n\n\nThank you Goodie Bags sponsored by The Shops At Montebello will be distributed to the first 350 participants  who walked the route.\n\n\n\nMajor Sponsors:\n\nThe Shops At Montebello\n\nCity of Montebello
X-ALT-DESC;FMTTYPE=text/html:<strong>March For Montebello - </strong><span style="color: #a52a2a">presented by<strong> </strong></span><strong><span style="color: #000000">Y.A.M.S.</span></strong><span style="color: #a52a2a"><strong> </strong></span><span style="color: #000000">(Youth Advocates for Montebello Servicing Our Community)</span><br />\n<br />\n<span style="color: #a52a2a"><strong>What is March for Montebello?</strong></span><br />\n<em>The March is an event to create awareness in the community about keeping our local money in our own city.<br />\n<br />\n<strong>&quot\;SHOP in Montebello&quot\;</strong><br />\nWhat does this mean?<br />\nFor every dollar spent in the City we receive a portion of &quot\;Sales Tax Revenue.&quot\;<br />\nThe more we purchase in Montebello the further we can assist in changing and managing our own local economy.</em><br />\n<br />\n<strong><span style="color: #a52a2a">Why is it important NOW?</span></strong><br />\n<em>Residents\, students\, and young people need to understand the value of what a small gesture means.&nbsp\; For example\, filling your gas tank in Montebello instead of any other city.&nbsp\; Shopping and eating at local businesses rather than other cities surrounding us.&nbsp\; It is important because<span style="color: #a52a2a"> <strong>WE</strong> </span>can make a difference <strong><span style="color: #a52a2a">TOGETHER</span></strong> through every small action.<br />\n<br />\nThank you Goodie Bags sponsored by The Shops At Montebello will be distributed to the first 350 participants&nbsp\; who walked the route.</em><br />\n<br />\n<strong><span style="color: #a52a2a">Major Sponsors:</span><br />\nThe Shops At Montebello<br />\nCity of Montebello</strong>
LOCATION:Registration starts at 8:30 a.m. Heavenly Choice: 534 N. Montebello Blvd. Montebello\, CA 90640 For Questions please call (323)728-2728 Walk will promptly start at 10:00 a.m. North bound on Montebello Blvd. Led by the MHS Drumline proceeding to The Shops At Montebello Shops At Montebello Lower Level Center Court Community Rally Entertainment provided by the Montebello Indian Cheerleaders & DJ Marc Pacheco
UID:e.1156.645
SEQUENCE:3
DTSTAMP:20260420T035729Z
URL:https://www.montebellochamber.org/events/details/march-for-montebello-07-28-2012-645
END:VEVENT

END:VCALENDAR
