BEGIN:VCALENDAR
VERSION:2.0
PRODID:-//ChamberMaster//Event Calendar 2.0//EN
METHOD:PUBLISH
X-PUBLISHED-TTL:P3D
REFRESH-INTERVAL:P3D
CALSCALE:GREGORIAN
BEGIN:VEVENT
DTSTART:20181124T210000Z
DTEND:20181124T220000Z
X-MICROSOFT-CDO-ALLDAYEVENT:FALSE
SUMMARY:"Mass of Remembrance" by Guerra Gutierrez Mortuaries
DESCRIPTION:The Guerra & Gutierrez Families cordially invite you and your family to join us in celebrating the life of your dearly departed at our Annual Mass of Remembrance. If you wish\, you may bring a photo of your loved one to be carried in procession.  Refreshments will be served at Watterson Hall immediately following Mass.
X-ALT-DESC;FMTTYPE=text/html:The Guerra &amp\; Gutierrez Families cordially invite you and your family to join us in celebrating the life of your dearly departed at our Annual Mass of Remembrance. If you wish\, you may bring a photo of your loved one to be carried in procession.&nbsp\; Refreshments will be served at Watterson Hall immediately following Mass.&nbsp\;
LOCATION:Our Lady of the Miraculous Medal Church 820 North Garfield Avenue Montebello\, CA 90640
UID:e.1156.3094
SEQUENCE:3
DTSTAMP:20260419T173749Z
URL:https://www.montebellochamber.org/events/details/mass-of-remembrance-by-guerra-gutierrez-mortuaries-3094
END:VEVENT

END:VCALENDAR
