BEGIN:VCALENDAR
VERSION:2.0
PRODID:-//ChamberMaster//Event Calendar 2.0//EN
METHOD:PUBLISH
X-PUBLISHED-TTL:P3D
REFRESH-INTERVAL:P3D
CALSCALE:GREGORIAN
BEGIN:VEVENT
DTSTART:20190827T003000Z
DTEND:20190827T013000Z
X-MICROSOFT-CDO-ALLDAYEVENT:FALSE
SUMMARY:Meditation Class at Beverly Hospital
DESCRIPTION:Beverly Hospital presents\n\nMeditation Classes\n\n\n\nBring balance to your body\, mind\, spirit and emotional self.  Please bring a mat with you to class.
X-ALT-DESC;FMTTYPE=text/html:Beverly Hospital presents<br />\nMeditation Classes<br />\n<br />\nBring balance to your body\, mind\, spirit and emotional self.&nbsp\; Please bring a mat with you to class.
LOCATION:Beverly Hospital Tower Basement Rooms 309 W. Beverly Blvd. Montebello\, CA 90640
UID:e.1156.3365
SEQUENCE:3
DTSTAMP:20260419T130236Z
URL:https://www.montebellochamber.org/events/details/meditation-class-at-beverly-hospital-3365
END:VEVENT

END:VCALENDAR
