BEGIN:VCALENDAR
VERSION:2.0
PRODID:-//ChamberMaster//Event Calendar 2.0//EN
METHOD:PUBLISH
X-PUBLISHED-TTL:P3D
REFRESH-INTERVAL:P3D
CALSCALE:GREGORIAN
BEGIN:VEVENT
DTSTART:20200623T180000Z
DTEND:20200623T210000Z
X-MICROSOFT-CDO-ALLDAYEVENT:FALSE
SUMMARY:Mega Food Drive-Thru Distribution
DESCRIPTION:Assemblymember Cristina Garcia (58th District) in partnership with Crescent Food Bank will hold a Mega Food Drive-Thru Distribution\n\n\n\n1600 Food Boxes to Distribute:  Fresh Produce\, Diapers & Resources\n\nFirst Come\, First Serve.  Please stay in your car\, practice social distancing and pop your trunk
X-ALT-DESC;FMTTYPE=text/html:Assemblymember Cristina Garcia (58th District) in partnership with Crescent Food Bank will hold a Mega Food Drive-Thru Distribution<br />\n<br />\n1600 Food Boxes to Distribute:&nbsp\; Fresh Produce\, Diapers &amp\; Resources<br />\nFirst Come\, First Serve.&nbsp\; Please stay in your car\, practice social distancing and pop your trunk
LOCATION:Ford Park 8000 Park Lane Bell Gardens\, CA 90201
UID:e.1156.3717
SEQUENCE:3
DTSTAMP:20260419T160028Z
URL:https://www.montebellochamber.org/events/details/mega-food-drive-thru-distribution-3717
END:VEVENT

END:VCALENDAR
