BEGIN:VCALENDAR
VERSION:2.0
PRODID:-//ChamberMaster//Event Calendar 2.0//EN
METHOD:PUBLISH
X-PUBLISHED-TTL:P3D
REFRESH-INTERVAL:P3D
CALSCALE:GREGORIAN
BEGIN:VEVENT
DTSTART:20181116T013000Z
DTEND:20181116T033000Z
X-MICROSOFT-CDO-ALLDAYEVENT:FALSE
SUMMARY:Member Exclusive: Mixer - Goldex Fine Jewelry
DESCRIPTION:Join us for an indulgent celebration and luxurious trunk show to mark Goldex Fine Jewelry's 40 years in business!\n\n\n\nDelectable Food & Drinks!\n\nParting Gifts & Exclusive Discounts!\n\nNewest Innovations in Fine Jewelry!\n\nComplimentary Valet Parking!
X-ALT-DESC;FMTTYPE=text/html:Join us for an indulgent celebration and luxurious trunk show to mark Goldex Fine Jewelry&#39\;s 40 years in business!<br />\n<br />\nDelectable Food &amp\; Drinks!<br />\nParting Gifts &amp\; Exclusive Discounts!<br />\nNewest Innovations in Fine Jewelry!<br />\nComplimentary Valet Parking!
LOCATION:Goldex Fine Jewelry 2445 W. Whittier Blvd.\, #201 Montebello\, CA
UID:e.1156.2867
SEQUENCE:3
DTSTAMP:20260419T160457Z
URL:https://www.montebellochamber.org/events/details/member-exclusive-mixer-goldex-fine-jewelry-2867
END:VEVENT

END:VCALENDAR
