BEGIN:VCALENDAR
VERSION:2.0
PRODID:-//ChamberMaster//Event Calendar 2.0//EN
METHOD:PUBLISH
X-PUBLISHED-TTL:P3D
REFRESH-INTERVAL:P3D
CALSCALE:GREGORIAN
BEGIN:VEVENT
DTSTART:20180418T190000Z
DTEND:20180418T203000Z
X-MICROSOFT-CDO-ALLDAYEVENT:FALSE
SUMMARY:Member Exclusive: Ribbon Cutting - Our Lady of the Miraculous Medal School
DESCRIPTION:Montebello Chamber members are invited to join us as we celebrate the Ribbon Cutting for Our Lady of the Miraculous Medal School's new Meditation Room!
X-ALT-DESC;FMTTYPE=text/html:Montebello Chamber members are invited to join us as we celebrate the Ribbon Cutting for Our Lady of the Miraculous Medal School&#39\;s new Meditation Room!
LOCATION:840 N. Garfield Ave. Montebello\, CA 90640
UID:e.1156.2494
SEQUENCE:3
DTSTAMP:20260419T144003Z
URL:https://www.montebellochamber.org/events/details/member-exclusive-ribbon-cutting-our-lady-of-the-miraculous-medal-school-2494
END:VEVENT

END:VCALENDAR
