BEGIN:VCALENDAR
VERSION:2.0
PRODID:-//ChamberMaster//Event Calendar 2.0//EN
METHOD:PUBLISH
X-PUBLISHED-TTL:P3D
REFRESH-INTERVAL:P3D
CALSCALE:GREGORIAN
BEGIN:VEVENT
DTSTART:20180528T180000Z
DTEND:20180528T210000Z
X-MICROSOFT-CDO-ALLDAYEVENT:FALSE
SUMMARY:Memorial Day Observance
DESCRIPTION:Join Rose Hills Memorial Park for the 98th Anuual Memorial Day Observance\n\nFREE COMMUNITY EVENT\n\nKeynote Speaker:\n\nColonel Michael L. Herman California State Military Reserve\n\nFeaturing:\n\nVintage Plane Flyover\n\nRemembrance Trees\n\nEssay Contest Display\n\nMilitary Vehicle Display\n\n\n\nThe day will be filled with live performances from Warren High School band\, Rio Hondo Choir and a balloon artist for children.
X-ALT-DESC;FMTTYPE=text/html:<div style="text-align: center\;">Join Rose Hills Memorial Park for the 98th Anuual&nbsp\;Memorial Day Observance</div>\n\n<div style="text-align: center\;">FREE COMMUNITY EVENT<br />\nKeynote Speaker:<br />\nColonel Michael L. Herman California State Military Reserve<br />\nFeaturing:<br />\nVintage Plane Flyover<br />\nRemembrance Trees<br />\nEssay Contest Display<br />\nMilitary Vehicle Display<br />\n<br />\nThe day will be filled with live performances from Warren High School band\, Rio Hondo Choir and a balloon artist for children.</div>\n
LOCATION:Rose Hills Memorial Park & Mortuary 3888 Workman Mill Rd. Whittier\, CA 90601 SkyRose Chapel Courtyard at Rose Hills
UID:e.1156.2512
SEQUENCE:3
DTSTAMP:20260419T155951Z
URL:https://www.montebellochamber.org/events/details/memorial-day-observance-2512
END:VEVENT

END:VCALENDAR
