BEGIN:VCALENDAR
VERSION:2.0
PRODID:-//ChamberMaster//Event Calendar 2.0//EN
METHOD:PUBLISH
X-PUBLISHED-TTL:P3D
REFRESH-INTERVAL:P3D
CALSCALE:GREGORIAN
BEGIN:VEVENT
DTSTART:20180818T020000Z
DTEND:20180818T030000Z
X-MICROSOFT-CDO-ALLDAYEVENT:FALSE
SUMMARY:Mermaid Face Painting
DESCRIPTION:Practice your face painting skills or learn to paint for your family and friends. This weekend we will concentrate on magical themes. Mermaids and Unicorns. All classes in August are FREE
X-ALT-DESC;FMTTYPE=text/html:Practice your face painting skills or learn to paint for your family and friends. This weekend we will concentrate on magical themes. Mermaids and Unicorns. All classes in August are FREE
LOCATION:Heavenly Choice 534 N. Montebello Blvd. Montebello\, CA 90640
UID:e.1156.2847
SEQUENCE:3
DTSTAMP:20260419T215226Z
URL:https://www.montebellochamber.org/events/details/mermaid-face-painting-2847
END:VEVENT

END:VCALENDAR
