BEGIN:VCALENDAR
VERSION:2.0
PRODID:-//ChamberMaster//Event Calendar 2.0//EN
METHOD:PUBLISH
X-PUBLISHED-TTL:P3D
REFRESH-INTERVAL:P3D
CALSCALE:GREGORIAN
BEGIN:VEVENT
DTSTART:20150815T170000Z
DTEND:20150815T220000Z
X-MICROSOFT-CDO-ALLDAYEVENT:FALSE
SUMMARY:MHDC Home Expo & Housing Fair
DESCRIPTION:MHDC - City of Pico Rivera - NAHREP\n\nInvite you to:  Home Expo & Housing Fair\n\nFree Homebuyer Resources and Workshops\n\nLunch Provided
X-ALT-DESC;FMTTYPE=text/html:MHDC - City of Pico Rivera - NAHREP<br />\nInvite you to: &nbsp\;Home Expo &amp\; Housing Fair<br />\nFree Homebuyer Resources and Workshops<br />\nLunch Provided<br />\n&nbsp\;
LOCATION:El Rancho High School 6601 S. Passons Blvd. Pico Rivera\, CA 90660
UID:e.1156.1414
SEQUENCE:3
DTSTAMP:20260420T004639Z
URL:https://www.montebellochamber.org/events/details/mhdc-home-expo-housing-fair-08-15-2015-1414
END:VEVENT

END:VCALENDAR
