BEGIN:VCALENDAR
VERSION:2.0
PRODID:-//ChamberMaster//Event Calendar 2.0//EN
METHOD:PUBLISH
X-PUBLISHED-TTL:P3D
REFRESH-INTERVAL:P3D
CALSCALE:GREGORIAN
BEGIN:VEVENT
DTSTART:20190427T160000Z
DTEND:20190427T183000Z
X-MICROSOFT-CDO-ALLDAYEVENT:FALSE
SUMMARY:MHDC Homeownership Workshop
DESCRIPTION:Homeownership Workshop\n\nIt's more than a Dream.  It's a Plan.  If you dream of owning a home join us for a FREE Workshop and visit our booths to learn the importand steps you need to take to get started.
X-ALT-DESC;FMTTYPE=text/html:Homeownership Workshop<br />\nIt&#39\;s more than a Dream.&nbsp\; It&#39\;s a Plan.&nbsp\; If you dream of owning a home join us for a FREE Workshop and visit our booths to learn the importand steps you need to take to get started.&nbsp\;&nbsp\;
LOCATION:Quiet Cannon Conference and Events Center\, The Skyview Room 901 Via San Clemente Montebello\, CA 90640 (Please enter on Garfield)
UID:e.1156.3286
SEQUENCE:3
DTSTAMP:20260419T184233Z
URL:https://www.montebellochamber.org/events/details/mhdc-homeownership-workshop-3286
END:VEVENT

END:VCALENDAR
