BEGIN:VCALENDAR
VERSION:2.0
PRODID:-//ChamberMaster//Event Calendar 2.0//EN
METHOD:PUBLISH
X-PUBLISHED-TTL:P3D
REFRESH-INTERVAL:P3D
CALSCALE:GREGORIAN
BEGIN:VEVENT
DTSTART:20191207T030000Z
DTEND:20191207T030000Z
X-MICROSOFT-CDO-ALLDAYEVENT:FALSE
SUMMARY:MHS Holiday Concert
DESCRIPTION:MHS Holiday Concert
X-ALT-DESC;FMTTYPE=text/html:MHS Holiday Concert<br />\n<br />\n&nbsp\;
LOCATION:Montebello High School Auditorium
UID:e.1156.3528
SEQUENCE:3
DTSTAMP:20260419T130326Z
URL:https://www.montebellochamber.org/events/details/mhs-holiday-concert-3528
END:VEVENT

END:VCALENDAR
