BEGIN:VCALENDAR
VERSION:2.0
PRODID:-//ChamberMaster//Event Calendar 2.0//EN
METHOD:PUBLISH
X-PUBLISHED-TTL:P3D
REFRESH-INTERVAL:P3D
CALSCALE:GREGORIAN
BEGIN:VEVENT
DTSTART:20150710T003000Z
DTEND:20150710T023000Z
X-MICROSOFT-CDO-ALLDAYEVENT:FALSE
SUMMARY:Mixer - Ford of Montebello
DESCRIPTION:Come and unwind with us...\n\nSummer Mixer at Ford of Montebello\n\nThis is the perfect opportunity to network & build relationships!\n\nBring plenty of business cards!\n\nRefreshments & Appetizers.
X-ALT-DESC;FMTTYPE=text/html:Come and unwind with us...<br />\nSummer Mixer at Ford of Montebello<br />\nThis is the perfect opportunity to network &amp\; build relationships!<br />\nBring plenty of business cards!<br />\nRefreshments &amp\; Appetizers.
LOCATION:Ford of Montebello 2747 Via Campo Montebello\, CA 90640
UID:e.1156.1400
SEQUENCE:3
DTSTAMP:20260419T231407Z
URL:https://www.montebellochamber.org/events/details/mixer-ford-of-montebello-07-09-2015-1400
END:VEVENT

END:VCALENDAR
