BEGIN:VCALENDAR
VERSION:2.0
PRODID:-//ChamberMaster//Event Calendar 2.0//EN
METHOD:PUBLISH
X-PUBLISHED-TTL:P3D
REFRESH-INTERVAL:P3D
CALSCALE:GREGORIAN
BEGIN:VEVENT
DTSTART:20150508T003000Z
DTEND:20150508T030000Z
X-MICROSOFT-CDO-ALLDAYEVENT:FALSE
SUMMARY:Mixer & Ribbon Cutting Ceremony
DESCRIPTION:Please join us for a\n\nMixer & Ribbon Cutting Ceremony at the Law Office of Claudia Perez & Mojarro Law\, P.C.\n\n\n\nCome relax after work with some drinks and light appetizers while networking with your fellow chamber members.  The perfect opportunity to exchange business cards\, build relationships and build business.\n\n\n\nRSVP by May 1st 2015 323-721-1153 or www.montebellochamber.org
X-ALT-DESC;FMTTYPE=text/html:<strong>Please join us for a<br />\n<span style="color: rgb(0\, 0\, 255)\;">Mixer</span> &amp\; <span style="color: rgb(255\, 0\, 0)\;">Ribbon</span> Cutting Ceremony at the Law Office of Claudia Perez &amp\; Mojarro Law\, P.C.<br />\n<br />\nCome relax after work with some drinks and light appetizers while networking with your fellow chamber members.&nbsp\; The perfect opportunity to exchange business cards\, build relationships and build business.<br />\n<br />\nRSVP by May 1st 2015 323-721-1153 or <a href="http://www.montebellochamber.org">www.montebellochamber.org</a></strong><br />\n<br />\n&nbsp\;
LOCATION:612 W. Whittier Blvd. Montebello\, CA 90640
UID:e.1156.1384
SEQUENCE:3
DTSTAMP:20260419T220152Z
URL:https://www.montebellochamber.org/events/details/mixer-ribbon-cutting-ceremony-05-07-2015-1384
END:VEVENT

END:VCALENDAR
