BEGIN:VCALENDAR
VERSION:2.0
PRODID:-//ChamberMaster//Event Calendar 2.0//EN
METHOD:PUBLISH
X-PUBLISHED-TTL:P3D
REFRESH-INTERVAL:P3D
CALSCALE:GREGORIAN
BEGIN:VEVENT
DTSTART:20130606T000000Z
DTEND:20130606T030000Z
X-MICROSOFT-CDO-ALLDAYEVENT:FALSE
SUMMARY:Mixer - Rudy's Baja Grill
DESCRIPTION:TEAM Referral Network - San Gabriel Valley Chapter\, Montebello\n\nand\n\nMontebello Chamber of Commerce\n\n\n\nJoin us for a Free Networking mixer at\n\nRudy's Baja Grill & Cocktails\n\n\n\nFood bar included & Happy Hour drink special
X-ALT-DESC;FMTTYPE=text/html:<strong><span style="color: rgb(0\, 128\, 0)\;">TEAM Referral Network - San Gabriel Valley Chapter\, Montebello</span></strong><br />\nand<br />\n<strong><span style="color: rgb(0\, 0\, 205)\;">Montebello Chamber of Commerce</span></strong><br />\n<br />\n<strong>Join us for a Free Networking mixer at<br />\nRudy&#39\;s Baja Grill &amp\; Cocktails</strong><br />\n<br />\n<strong><span style="color: rgb(0\, 128\, 0)\;">Food bar included &amp\; Happy Hour drink special</span></strong><br />\n
LOCATION:Rudy's Baja Grill & Cocktails 5226 E. Pomona Blvd. Los Angeles\, CA 90022 (Cross street Atlantic Blvd.)
UID:e.1156.922
SEQUENCE:3
DTSTAMP:20260419T143510Z
URL:https://www.montebellochamber.org/events/details/mixer-rudy-s-baja-grill-06-05-2013-922
END:VEVENT

END:VCALENDAR
