BEGIN:VCALENDAR
VERSION:2.0
PRODID:-//ChamberMaster//Event Calendar 2.0//EN
METHOD:PUBLISH
X-PUBLISHED-TTL:P3D
REFRESH-INTERVAL:P3D
CALSCALE:GREGORIAN
BEGIN:VEVENT
DTSTART:20180321T003000Z
DTEND:20180321T023000Z
X-MICROSOFT-CDO-ALLDAYEVENT:FALSE
SUMMARY:Mixer - Soroptimist International of Montebello
DESCRIPTION:Soroptimist International of Montebello \n\ninvites you to attend their Business Mixer /Membership Drive\n\n\n\nCome and unwind with us after hours while you build relationships and promote your business!
X-ALT-DESC;FMTTYPE=text/html:Soroptimist International of Montebello&nbsp\;<br />\ninvites you to attend their Business Mixer /Membership Drive<br />\n<br />\nCome and unwind with us after hours while you build relationships and promote your business!
LOCATION:Law Offices of Claudia Perez /Mojarro Law 612 W. Whittier Blvd. (rear patio) Montebello\, CA 90640
UID:e.1156.2496
SEQUENCE:3
DTSTAMP:20260419T143639Z
URL:https://www.montebellochamber.org/events/details/mixer-soroptimist-international-of-montebello-2496
END:VEVENT

END:VCALENDAR
