BEGIN:VCALENDAR
VERSION:2.0
PRODID:-//ChamberMaster//Event Calendar 2.0//EN
METHOD:PUBLISH
X-PUBLISHED-TTL:P3D
REFRESH-INTERVAL:P3D
CALSCALE:GREGORIAN
BEGIN:VEVENT
DTSTART:20190209T200000Z
DTEND:20190209T213000Z
X-MICROSOFT-CDO-ALLDAYEVENT:FALSE
SUMMARY:MLB Celebrity Appearances & Signing
DESCRIPTION:Harry's Dugout presents\n\nSpecial Appearancse & Signings by Jose Canseco\, Clyde Wright & Dave Stewart\n\n\n\nJOSE CANSECO\n\n	1986 AL Rookie of the Year\n	1988 AL Most Valuable Player\n	6 Times All Star\n	2-Time World Series Champion\n	2-Time MLB Home Run Leader\n\nCLYDE WRIGHT\n\n\n	1970 AL All Star\n	Only Angel Southpaw with 20+ Wins in a Season\n	No-Hitter Hurler (July 3\, 1970)\n\nDAVE STEWART\n\n\n	1989 World Series MVP\n	2-Time ALCS MVP\n	No-Hitter (June 29\, 1990)\n	3-Time World Series Champion
X-ALT-DESC;FMTTYPE=text/html:Harry&#39\;s Dugout presents<br />\nSpecial Appearancse &amp\; Signings by Jose Canseco\, Clyde Wright &amp\; Dave Stewart<br />\n<br />\n<strong>JOSE CANSECO</strong>\n<ul>\n	<li>1986 AL Rookie of the Year</li>\n	<li>1988 AL Most Valuable Player</li>\n	<li>6 Times All Star</li>\n	<li>2-Time World Series Champion</li>\n	<li>2-Time MLB Home Run Leader</li>\n</ul>\n<strong>CLYDE WRIGHT</strong>\n\n<ul>\n	<li>1970 AL All Star</li>\n	<li>Only Angel Southpaw with 20+ Wins in a Season</li>\n	<li>No-Hitter Hurler (July 3\, 1970)</li>\n</ul>\n<strong>DAVE STEWART</strong>\n\n<ul>\n	<li>1989 World Series MVP</li>\n	<li>2-Time ALCS MVP</li>\n	<li>No-Hitter (June 29\, 1990)</li>\n	<li>3-Time World Series Champion</li>\n</ul>\n
LOCATION:Harry's Dugout / Harry's Sports Memorabilia & Barber Shop 1435 N. Montebello Blvd. Montebello\, CA 90640
UID:e.1156.3236
SEQUENCE:3
DTSTAMP:20260419T130221Z
URL:https://www.montebellochamber.org/events/details/mlb-celebrity-appearances-signing-3236
END:VEVENT

END:VCALENDAR
