BEGIN:VCALENDAR
VERSION:2.0
PRODID:-//ChamberMaster//Event Calendar 2.0//EN
METHOD:PUBLISH
X-PUBLISHED-TTL:P3D
REFRESH-INTERVAL:P3D
CALSCALE:GREGORIAN
BEGIN:VEVENT
DTSTART:20180615T200000Z
DTEND:20180615T230000Z
X-MICROSOFT-CDO-ALLDAYEVENT:FALSE
SUMMARY:Montebello Aquatics
DESCRIPTION:Opening Day\n\nFree Swim 1:00 p.m. - 4:00 p.m.\n\n\n\nRegister to swim at the George Hensel Aquatic Center or Chet Holifield Pool\n\nSwim Team\, Adult Water Polo League\, Swim Lessons\n\n\n\nCall for more information
X-ALT-DESC;FMTTYPE=text/html:Opening Day<br />\nFree Swim 1:00 p.m. - 4:00 p.m.<br />\n<br />\nRegister to swim at the George Hensel Aquatic Center or Chet Holifield Pool<br />\nSwim Team\, Adult Water Polo League\, Swim Lessons<br />\n<br />\nCall for more information
LOCATION:Geroge Hensel Aquatic Center 1300 W. Olympic Blvd. Chet Holifield Pool 1060 S. Greenwood Ave.
UID:e.1156.2583
SEQUENCE:3
DTSTAMP:20260419T173157Z
URL:https://www.montebellochamber.org/events/details/montebello-aquatics-2583
END:VEVENT

END:VCALENDAR
