BEGIN:VCALENDAR
VERSION:2.0
PRODID:-//ChamberMaster//Event Calendar 2.0//EN
METHOD:PUBLISH
X-PUBLISHED-TTL:P3D
REFRESH-INTERVAL:P3D
CALSCALE:GREGORIAN
BEGIN:VEVENT
DTSTART:20170617T230000Z
DTEND:20170618T040000Z
X-MICROSOFT-CDO-ALLDAYEVENT:FALSE
SUMMARY:Montebello ArtWalk
DESCRIPTION:KTCA Presents "Hot Summer Nights" Montebello Art Walk\n\n	40+ Vendors\, Artists\, Crafters\n	Live Music\n	Art Battle
X-ALT-DESC;FMTTYPE=text/html:KTCA Presents &quot\;Hot Summer Nights&quot\; Montebello Art Walk\n<ul>\n	<li>40+ Vendors\, Artists\, Crafters</li>\n	<li>Live Music</li>\n	<li>Art Battle</li>\n</ul>\n
LOCATION:137 N. Montebello Blvd. Montebello\, Ca 90640
UID:e.1156.1694
SEQUENCE:3
DTSTAMP:20260419T143038Z
URL:https://www.montebellochamber.org/events/details/montebello-artwalk-1694
END:VEVENT

END:VCALENDAR
