BEGIN:VCALENDAR
VERSION:2.0
PRODID:-//ChamberMaster//Event Calendar 2.0//EN
METHOD:PUBLISH
X-PUBLISHED-TTL:P3D
REFRESH-INTERVAL:P3D
CALSCALE:GREGORIAN
BEGIN:VEVENT
DTSTART:20180317T230000Z
DTEND:20180318T040000Z
X-MICROSOFT-CDO-ALLDAYEVENT:FALSE
SUMMARY:Montebello Artwalk Luck of the Artists
DESCRIPTION:Luck of the Artists artwalk at the Daily Brew!
X-ALT-DESC;FMTTYPE=text/html:Luck of the Artists artwalk&nbsp\;at the Daily Brew!
LOCATION:The Daily Brew 137 N Montebello Blvd. Ste A Montebello\, CA 90640
UID:e.1156.2487
SEQUENCE:3
DTSTAMP:20260419T130802Z
URL:https://www.montebellochamber.org/events/details/montebello-artwalk-luck-of-the-artists-2487
END:VEVENT

END:VCALENDAR
