BEGIN:VCALENDAR
VERSION:2.0
PRODID:-//ChamberMaster//Event Calendar 2.0//EN
METHOD:PUBLISH
X-PUBLISHED-TTL:P3D
REFRESH-INTERVAL:P3D
CALSCALE:GREGORIAN
BEGIN:VEVENT
DTSTART:20140611T190000Z
DTEND:20140611T203000Z
X-MICROSOFT-CDO-ALLDAYEVENT:FALSE
SUMMARY:Montebello Auto Ribbon Cutting Ceremony
DESCRIPTION:Join us for the Grand Opening Ribbon Cutting Ceremony of Montebello Auto!\n\nStep away for lunch and enjoy tasty treats while networking with your fellow chamber members. The perfect opportunity to exchange business cards\, build relationships and build business.
X-ALT-DESC;FMTTYPE=text/html:<p>Join us for the Grand Opening Ribbon Cutting Ceremony of <strong>Montebello Auto!</strong></p>\n\n<p>Step away for lunch and enjoy tasty treats while networking with your fellow chamber members. The perfect opportunity to exchange business cards\, build relationships and build business.<br />\n<br />\n&nbsp\;</p>\n
LOCATION:1022 West Whittier Blvd\, Montebello\, CA 90640
UID:e.1156.1004
SEQUENCE:3
DTSTAMP:20260419T130433Z
URL:https://www.montebellochamber.org/events/details/montebello-auto-ribbon-cutting-ceremony-06-11-2014-1004
END:VEVENT

END:VCALENDAR
