BEGIN:VCALENDAR
VERSION:2.0
PRODID:-//ChamberMaster//Event Calendar 2.0//EN
METHOD:PUBLISH
X-PUBLISHED-TTL:P3D
REFRESH-INTERVAL:P3D
CALSCALE:GREGORIAN
BEGIN:VEVENT
DTSTART:20260508T010000Z
DTEND:20260508T010000Z
X-MICROSOFT-CDO-ALLDAYEVENT:FALSE
SUMMARY:Montebello Christian School 3rd Annual Charity Gala
DESCRIPTION:Montebello Christian School 3rd Annual Charity Gala
X-ALT-DESC;FMTTYPE=text/html:Montebello Christian School 3rd Annual Charity Gala&nbsp\; &nbsp\;
LOCATION:Montebello Christian School 136 S. 7th Street Montebello\, CA 90640
UID:e.1156.4996
SEQUENCE:3
DTSTAMP:20260423T031328Z
URL:https://www.montebellochamber.org/events/details/montebello-christian-school-3rd-annual-charity-gala-4996
END:VEVENT

END:VCALENDAR
