BEGIN:VCALENDAR
VERSION:2.0
PRODID:-//ChamberMaster//Event Calendar 2.0//EN
METHOD:PUBLISH
X-PUBLISHED-TTL:P3D
REFRESH-INTERVAL:P3D
CALSCALE:GREGORIAN
BEGIN:VEVENT
DTSTART;VALUE=DATE:20260507
DTEND;VALUE=DATE:20260508
TRANSP:TRANSPARENT
X-MICROSOFT-CDO-ALLDAYEVENT:TRUE
SUMMARY:Montebello Christian School Gala SAVE THE DATE
DESCRIPTION:SAVE THE DATE....Montebello Christian School Gala
X-ALT-DESC;FMTTYPE=text/html:SAVE THE DATE....Montebello Christian School Gala&nbsp\;
LOCATION:
UID:e.1156.4996
SEQUENCE:3
DTSTAMP:20260421T095339Z
URL:https://www.montebellochamber.org/events/details/montebello-christian-school-gala-save-the-date-4996
END:VEVENT

END:VCALENDAR
