BEGIN:VCALENDAR
VERSION:2.0
PRODID:-//ChamberMaster//Event Calendar 2.0//EN
METHOD:PUBLISH
X-PUBLISHED-TTL:P3D
REFRESH-INTERVAL:P3D
CALSCALE:GREGORIAN
BEGIN:VEVENT
DTSTART:20190227T023000Z
DTEND:20190227T043000Z
X-MICROSOFT-CDO-ALLDAYEVENT:FALSE
SUMMARY:Montebello Christian School Open Enrollment/OPEN HOUSE
DESCRIPTION:You are invited to attend Montebello Christian School's OPEN HOUSE!! Visit all the classrooms (K-8)\, meet the teachers and ask questions\, view various curriculum\, science fair projects\, castles\, dioramas\, and missions.  COME JOIN US!  Application packets will be available.
X-ALT-DESC;FMTTYPE=text/html:You are invited to attend Montebello Christian School&#39\;s OPEN HOUSE!! Visit all the classrooms (K-8)\, meet the teachers and ask questions\, view various curriculum\, science fair projects\, castles\, dioramas\, and missions.&nbsp\; COME JOIN US!&nbsp\; Application packets will be available.&nbsp\;
LOCATION:Montebello Christian School 136 So. 7th Street Montebello\, CA 90640
UID:e.1156.3240
SEQUENCE:3
DTSTAMP:20260419T130610Z
URL:https://www.montebellochamber.org/events/details/montebello-christian-school-open-enrollment-open-house-3240
END:VEVENT

END:VCALENDAR
