BEGIN:VCALENDAR
VERSION:2.0
PRODID:-//ChamberMaster//Event Calendar 2.0//EN
METHOD:PUBLISH
X-PUBLISHED-TTL:P3D
REFRESH-INTERVAL:P3D
CALSCALE:GREGORIAN
BEGIN:VEVENT
DTSTART:20140523T203000Z
DTEND:20140523T210000Z
X-MICROSOFT-CDO-ALLDAYEVENT:FALSE
SUMMARY:Montebello Christian School Playground Ribbon Cutting Ceremony
DESCRIPTION:Montebello Christian School will be celebrating the re-opening of their playground with a ribbon cutting ceremony.
X-ALT-DESC;FMTTYPE=text/html:Montebello Christian School will be celebrating the re-opening of their playground with a ribbon cutting ceremony.
LOCATION:Montebello Christian School
UID:e.1156.1003
SEQUENCE:3
DTSTAMP:20260419T160621Z
URL:https://www.montebellochamber.org/events/details/montebello-christian-school-playground-ribbon-cutting-ceremony-05-23-2014-1003
END:VEVENT

END:VCALENDAR
